BEGIN:VCALENDAR
VERSION:2.0
CALSCALE:GREGORIAN
PRODID:-//Diputació de Barcelona//DibaCMS//EN
BEGIN:VEVENT
UID:15808
DTSTAMP:20260425T022233
DTSTART:20231111T100000
DTEND:20231111T100000
SUMMARY:Serveis d'assessorament: "Reparació d'aparells i bricolatge"
LOCATION:Pl. Lluís Companys, 2 08755 Castellbisbal
METHOD:PUBLISH
X-WR-CALNAME:comunicacio@castellbisbal.cat
X-WR-TIMEZONE:Europe/Madrid
DESCRIPTION:De 10.00 a 13.00 h, al Punt Verd

URI:https://www.castellbisbal.cat/actualitat/agenda/15808-serveis-dassessorament-reparacio-daparells-i-bricolatge.html
CLASS:PUBLIC
END:VEVENT
END:VCALENDAR
