BEGIN:VCALENDAR
VERSION:2.0
CALSCALE:GREGORIAN
PRODID:-//Diputació de Barcelona//DibaCMS//EN
BEGIN:VEVENT
UID:15809
DTSTAMP:20260423T110122
DTSTART:20231125T100000
DTEND:20231125T100000
SUMMARY:Serveis d'assessorament: "Petits arranjaments de roba"
LOCATION:Pl. Lluís Companys, 2 08755 Castellbisbal
METHOD:PUBLISH
X-WR-CALNAME:comunicacio@castellbisbal.cat
X-WR-TIMEZONE:Europe/Madrid
DESCRIPTION:De 10.00 a 13.00 h, al Punt Verd

URI:https://www.castellbisbal.cat/actualitat/agenda/15809-serveis-dassessorament-petits-arranjaments-de-roba.html
CLASS:PUBLIC
END:VEVENT
END:VCALENDAR
