BEGIN:VCALENDAR
VERSION:2.0
CALSCALE:GREGORIAN
PRODID:-//Diputació de Barcelona//DibaCMS//EN
BEGIN:VEVENT
UID:15812
DTSTAMP:20260424T211024
DTSTART:20230224T190000
DTEND:20230224T190000
SUMMARY:Premis VOC Mostra d'audiovisuals en català 2022
LOCATION:Av. de Pau Casals, 16 08755 Castellbisbal
METHOD:PUBLISH
X-WR-CALNAME:comunicacio@castellbisbal.cat
X-WR-TIMEZONE:Europe/Madrid
DESCRIPTION:A les 19.00 h, a l'auditori d'Els Costals

URI:https://www.castellbisbal.cat/actualitat/agenda/premis-voc-mostra-daudiovisuals-en-catala-2022.html
CLASS:PUBLIC
END:VEVENT
END:VCALENDAR
