BEGIN:VCALENDAR
VERSION:2.0
CALSCALE:GREGORIAN
PRODID:-//Diputació de Barcelona//DibaCMS//EN
BEGIN:VEVENT
UID:15815
DTSTAMP:20260425T022044
DTSTART:20230312T180000
DTEND:20230312T180000
SUMMARY:Espectacle musical i dansa: "Garrí al forn amb compota de reineta"
LOCATION:Av. de Pau Casals, 16 08755 Castellbisbal
METHOD:PUBLISH
X-WR-CALNAME:comunicacio@castellbisbal.cat
X-WR-TIMEZONE:Europe/Madrid
DESCRIPTION:A les 18.00 h, a l'auditori d'Els Costals

URI:https://www.castellbisbal.cat/actualitat/agenda/espectacle-musical-i-dansa-garri-al-forn-amb-compota-de-reineta.html
CLASS:PUBLIC
END:VEVENT
END:VCALENDAR
