BEGIN:VCALENDAR
VERSION:2.0
CALSCALE:GREGORIAN
PRODID:-//Diputació de Barcelona//DibaCMS//EN
BEGIN:VEVENT
UID:15818
DTSTAMP:20260424T165548
DTSTART:20230413T190000
DTEND:20230413T190000
SUMMARY:Teatre: "Darrers dies de la Catalunya republicana"
LOCATION:Av. de Pau Casals, 16 08755 Castellbisbal
METHOD:PUBLISH
X-WR-CALNAME:comunicacio@castellbisbal.cat
X-WR-TIMEZONE:Europe/Madrid
DESCRIPTION:A les 19.00 h, a l'auditori d'Els Costals

URI:https://www.castellbisbal.cat/actualitat/agenda/teatre-darrers-dies-de-la-catalunya-republicana.html
CLASS:PUBLIC
END:VEVENT
END:VCALENDAR
