BEGIN:VCALENDAR
VERSION:2.0
CALSCALE:GREGORIAN
PRODID:-//Diputació de Barcelona//DibaCMS//EN
BEGIN:VEVENT
UID:15819
DTSTAMP:20260424T032328
DTSTART:20230505T200000
DTEND:20230505T200000
SUMMARY:Música: "¿Os acordáis?" amb Albert Pla
LOCATION:Av. de Pau Casals, 16 08755 Castellbisbal
METHOD:PUBLISH
X-WR-CALNAME:comunicacio@castellbisbal.cat
X-WR-TIMEZONE:Europe/Madrid
DESCRIPTION:A les 20.00 h, a l'auditori d'Els Costals

URI:https://www.castellbisbal.cat/actualitat/agenda/musica-os-acordais-amb-albert-pla.html
CLASS:PUBLIC
END:VEVENT
END:VCALENDAR
