BEGIN:VCALENDAR
VERSION:2.0
CALSCALE:GREGORIAN
PRODID:-//Diputació de Barcelona//DibaCMS//EN
BEGIN:VEVENT
UID:15825
DTSTAMP:20260425T001918
DTSTART:20230213T091500
DTEND:20230213T091500
SUMMARY:Curs: "Entorn Google"
LOCATION:Av. de Pau Casals, 16 08755 Castellbisbal
METHOD:PUBLISH
X-WR-CALNAME:comunicacio@castellbisbal.cat
X-WR-TIMEZONE:Europe/Madrid
DESCRIPTION:Del 13 de febrer al 9 de març, a l'Aula Multimèdia d'Els Costals

URI:https://www.castellbisbal.cat/actualitat/agenda/curs-entorn-google.html
CLASS:PUBLIC
END:VEVENT
END:VCALENDAR
