BEGIN:VCALENDAR
VERSION:2.0
CALSCALE:GREGORIAN
PRODID:-//Diputació de Barcelona//DibaCMS//EN
BEGIN:VEVENT
UID:15838
DTSTAMP:20260424T035443
DTSTART:20230209T133000
DTEND:20230209T133000
SUMMARY:Curs: El nou sistema de cotització de les persones autònomes
LOCATION:Avinguda de Pau Casals, 9 08755 Castellbisbal
METHOD:PUBLISH
X-WR-CALNAME:comunicacio@castellbisbal.cat
X-WR-TIMEZONE:Europe/Madrid
DESCRIPTION:De 13.30 a 15.30 h, a la Sala de Plens de l'Ajuntament

URI:https://www.castellbisbal.cat/actualitat/agenda/curs-el-nou-sistema-de-cotitzacio-de-les-persones-autonomes.html
CLASS:PUBLIC
END:VEVENT
END:VCALENDAR
