BEGIN:VCALENDAR
VERSION:2.0
CALSCALE:GREGORIAN
PRODID:-//Diputació de Barcelona//DibaCMS//EN
BEGIN:VEVENT
UID:15841
DTSTAMP:20260424T052612
DTSTART:20230211T120000
DTEND:20230211T120000
SUMMARY:Storytime: "The Messy Playroom"
LOCATION:Av. de Pau Casals, 16 08755 Castellbisbal
METHOD:PUBLISH
X-WR-CALNAME:comunicacio@castellbisbal.cat
X-WR-TIMEZONE:Europe/Madrid
DESCRIPTION:A les 12.00 h, a la Biblioteca Municipal

URI:https://www.castellbisbal.cat/actualitat/agenda/biblioteca/storytime-the-messy-playroom.html
CLASS:PUBLIC
END:VEVENT
END:VCALENDAR
