BEGIN:VCALENDAR
VERSION:2.0
CALSCALE:GREGORIAN
PRODID:-//Diputació de Barcelona//DibaCMS//EN
BEGIN:VEVENT
UID:15843
DTSTAMP:20260424T223432
DTSTART:20230218T113000
DTEND:20230218T113000
SUMMARY:Laboratori creatiu: "Àvies i avis savis"
LOCATION:Av. de Pau Casals, 16 08755 Castellbisbal
METHOD:PUBLISH
X-WR-CALNAME:comunicacio@castellbisbal.cat
X-WR-TIMEZONE:Europe/Madrid
DESCRIPTION:A les 11.30 h, a la Biblioteca Municipal

URI:https://www.castellbisbal.cat/actualitat/agenda/biblioteca/laboratori-creatiu-avies-i-avis-savis.html
CLASS:PUBLIC
END:VEVENT
END:VCALENDAR
