BEGIN:VCALENDAR
VERSION:2.0
CALSCALE:GREGORIAN
PRODID:-//Diputació de Barcelona//DibaCMS//EN
BEGIN:VEVENT
UID:15849
DTSTAMP:20260424T021747
DTSTART:20230202T180000
DTEND:20230202T180000
SUMMARY:Valora
LOCATION:Carrer Francesc Macià, 64 08755 Castellbisbal
METHOD:PUBLISH
X-WR-CALNAME:comunicacio@castellbisbal.cat
X-WR-TIMEZONE:Europe/Madrid
DESCRIPTION:De 18.00 a 19.00 h, al PIJ

URI:https://www.castellbisbal.cat/actualitat/agenda/valora.html
CLASS:PUBLIC
END:VEVENT
END:VCALENDAR
