BEGIN:VCALENDAR
VERSION:2.0
CALSCALE:GREGORIAN
PRODID:-//Diputació de Barcelona//DibaCMS//EN
BEGIN:VEVENT
UID:15853
DTSTAMP:20260424T021615
DTSTART:20230224T170000
DTEND:20230224T170000
SUMMARY:Mario Kart
LOCATION:Carrer Francesc Macià, 64 08755 Castellbisbal
METHOD:PUBLISH
X-WR-CALNAME:comunicacio@castellbisbal.cat
X-WR-TIMEZONE:Europe/Madrid
DESCRIPTION:De 17.00 a 20.00 h, al PIJ

URI:https://www.castellbisbal.cat/actualitat/agenda/mario-kart.html
CLASS:PUBLIC
END:VEVENT
END:VCALENDAR
