BEGIN:VCALENDAR
VERSION:2.0
CALSCALE:GREGORIAN
PRODID:-//Diputació de Barcelona//DibaCMS//EN
BEGIN:VEVENT
UID:15855
DTSTAMP:20260424T065938
DTSTART:20230222T170000
DTEND:20230222T170000
SUMMARY:Berenar del Dimecres de Cendra
LOCATION:
METHOD:PUBLISH
X-WR-CALNAME:comunicacio@castellbisbal.cat
X-WR-TIMEZONE:Europe/Madrid
DESCRIPTION:A les 17.00 h, al carrer Sant Joan número 2

URI:https://www.castellbisbal.cat/actualitat/agenda/berenar-del-dimecres-de-cendra.html
CLASS:PUBLIC
END:VEVENT
END:VCALENDAR
