BEGIN:VCALENDAR
VERSION:2.0
CALSCALE:GREGORIAN
PRODID:-//Diputació de Barcelona//DibaCMS//EN
BEGIN:VEVENT
UID:15860
DTSTAMP:20260424T162445
DTSTART:20230216T164500
DTEND:20230216T164500
SUMMARY:Tallers infantils
LOCATION:08755 Castellbisbal
METHOD:PUBLISH
X-WR-CALNAME:comunicacio@castellbisbal.cat
X-WR-TIMEZONE:Europe/Madrid
DESCRIPTION:A les 16.45 h, a la Plaça de l'Església

URI:https://www.castellbisbal.cat/actualitat/agenda/15860-tallers-infantils.html
CLASS:PUBLIC
END:VEVENT
END:VCALENDAR
