BEGIN:VCALENDAR
VERSION:2.0
CALSCALE:GREGORIAN
PRODID:-//Diputació de Barcelona//DibaCMS//EN
BEGIN:VEVENT
UID:15861
DTSTAMP:20260424T151150
DTSTART:20230216T183000
DTEND:20230216T183000
SUMMARY:L'Arribo del Rei Carnestoltes
LOCATION:08755 Castellbisbal
METHOD:PUBLISH
X-WR-CALNAME:comunicacio@castellbisbal.cat
X-WR-TIMEZONE:Europe/Madrid
DESCRIPTION:A les 18.30 h, a la Plaça de l'Església

URI:https://www.castellbisbal.cat/actualitat/agenda/larribo-del-rei-carnestoltes.html
CLASS:PUBLIC
END:VEVENT
END:VCALENDAR
