BEGIN:VCALENDAR
VERSION:2.0
CALSCALE:GREGORIAN
PRODID:-//Diputació de Barcelona//DibaCMS//EN
BEGIN:VEVENT
UID:15862
DTSTAMP:20260425T015427
DTSTART:20230218T190000
DTEND:20230218T190000
SUMMARY:Concentració de les comparses
LOCATION:Avinguda Gaudí 08755 Castellbisbal
METHOD:PUBLISH
X-WR-CALNAME:comunicacio@castellbisbal.cat
X-WR-TIMEZONE:Europe/Madrid
DESCRIPTION:A les 19.00 h, a l'Avinguda Gaudí (fins a l'av. Pau Casals)

URI:https://www.castellbisbal.cat/actualitat/agenda/15862-concentracio-de-les-comparses.html
CLASS:PUBLIC
END:VEVENT
END:VCALENDAR
