BEGIN:VCALENDAR
VERSION:2.0
CALSCALE:GREGORIAN
PRODID:-//Diputació de Barcelona//DibaCMS//EN
BEGIN:VEVENT
UID:15863
DTSTAMP:20260425T002301
DTSTART:20230218T200000
DTEND:20230218T200000
SUMMARY:Rua de Carnestoltes
LOCATION:
METHOD:PUBLISH
X-WR-CALNAME:comunicacio@castellbisbal.cat
X-WR-TIMEZONE:Europe/Madrid
DESCRIPTION:A les 20.00 h, recorregut amb inici a la Bassa

URI:https://www.castellbisbal.cat/actualitat/agenda/15863-rua-de-carnestoltes.html
CLASS:PUBLIC
END:VEVENT
END:VCALENDAR
