BEGIN:VCALENDAR
VERSION:2.0
CALSCALE:GREGORIAN
PRODID:-//Diputació de Barcelona//DibaCMS//EN
BEGIN:VEVENT
UID:15864
DTSTAMP:20260424T065424
DTSTART:20230218T230000
DTEND:20230218T230000
SUMMARY:Concert amb Tribut FM i PD La Trinca
LOCATION:Av. de Pau Casals 7 08755 Castellbisbal
METHOD:PUBLISH
X-WR-CALNAME:comunicacio@castellbisbal.cat
X-WR-TIMEZONE:Europe/Madrid
DESCRIPTION:A les 23.00 h, al Casal Cultural i Recreatiu

URI:https://www.castellbisbal.cat/actualitat/agenda/concert-amb-tribut-fm-i-pd-la-trinca.html
CLASS:PUBLIC
END:VEVENT
END:VCALENDAR
