BEGIN:VCALENDAR
VERSION:2.0
CALSCALE:GREGORIAN
PRODID:-//Diputació de Barcelona//DibaCMS//EN
BEGIN:VEVENT
UID:15866
DTSTAMP:20260424T035303
DTSTART:20230222T183000
DTEND:20230222T183000
SUMMARY:Gala de lliurament de premis
LOCATION:Av. de Pau Casals, 16 08755 Castellbisbal
METHOD:PUBLISH
X-WR-CALNAME:comunicacio@castellbisbal.cat
X-WR-TIMEZONE:Europe/Madrid
DESCRIPTION:A les 18.30 h, a l'auditori d'Els Costals

URI:https://www.castellbisbal.cat/actualitat/agenda/gala-de-lliurament-de-premis.html
CLASS:PUBLIC
END:VEVENT
END:VCALENDAR
