BEGIN:VCALENDAR
VERSION:2.0
CALSCALE:GREGORIAN
PRODID:-//Diputació de Barcelona//DibaCMS//EN
BEGIN:VEVENT
UID:15871
DTSTAMP:20260424T023637
DTSTART:20230301T150000
DTEND:20230301T150000
SUMMARY:Portes obertes a l'Escola Els Arenys
LOCATION:C. dels Països Catalans, 42 08755 Castellbisbal
METHOD:PUBLISH
X-WR-CALNAME:comunicacio@castellbisbal.cat
X-WR-TIMEZONE:Europe/Madrid
DESCRIPTION:Dues sessions: a les 15.00 i a les 16.40 h

URI:https://www.castellbisbal.cat/actualitat/agenda/15871-portes-obertes-a-lescola-els-arenys.html
CLASS:PUBLIC
END:VEVENT
END:VCALENDAR
