BEGIN:VCALENDAR
VERSION:2.0
CALSCALE:GREGORIAN
PRODID:-//Diputació de Barcelona//DibaCMS//EN
BEGIN:VEVENT
UID:15873
DTSTAMP:20260424T135833
DTSTART:20230227T151500
DTEND:20230227T151500
SUMMARY:Portes obertes a l'Institut-Escola Les Vinyes
LOCATION:C. Major, 109 08755 Castellbisbal
METHOD:PUBLISH
X-WR-CALNAME:comunicacio@castellbisbal.cat
X-WR-TIMEZONE:Europe/Madrid
DESCRIPTION:Tres sessions: a les 15.15 h (infantil) i a les 17.00 i les 18.30 h (infantil i secundària)

URI:https://www.castellbisbal.cat/actualitat/agenda/15873-portes-obertes-a-linstitut-escola-les-vinyes.html
CLASS:PUBLIC
END:VEVENT
END:VCALENDAR
