BEGIN:VCALENDAR
VERSION:2.0
CALSCALE:GREGORIAN
PRODID:-//Diputació de Barcelona//DibaCMS//EN
BEGIN:VEVENT
UID:15875
DTSTAMP:20260424T202520
DTSTART:20230303T151500
DTEND:20230303T151500
SUMMARY:Portes obertes a l'Escola Benviure
LOCATION:C. de Sant Mateu, 20 08755 Castellbisbal
METHOD:PUBLISH
X-WR-CALNAME:comunicacio@castellbisbal.cat
X-WR-TIMEZONE:Europe/Madrid
DESCRIPTION:Tres sessions: a les 15.15, a les 17.00 i a les 18.00 h

URI:https://www.castellbisbal.cat/actualitat/agenda/15875-portes-obertes-a-lescola-benviure.html
CLASS:PUBLIC
END:VEVENT
END:VCALENDAR
