BEGIN:VCALENDAR
VERSION:2.0
CALSCALE:GREGORIAN
PRODID:-//Diputació de Barcelona//DibaCMS//EN
BEGIN:VEVENT
UID:15877
DTSTAMP:20260424T204900
DTSTART:20230304T103000
DTEND:20230304T103000
SUMMARY:Portes obertes a l'Escola Mare de Déu de Montserrat
LOCATION:Av. de Pau Casals, 20 08755 Castellbisbal
METHOD:PUBLISH
X-WR-CALNAME:comunicacio@castellbisbal.cat
X-WR-TIMEZONE:Europe/Madrid
DESCRIPTION:A les 10.30 h

URI:https://www.castellbisbal.cat/actualitat/agenda/15877-portes-obertes-a-lescola-mare-de-deu-de-montserrat.html
CLASS:PUBLIC
END:VEVENT
END:VCALENDAR
