BEGIN:VCALENDAR
VERSION:2.0
CALSCALE:GREGORIAN
PRODID:-//Diputació de Barcelona//DibaCMS//EN
BEGIN:VEVENT
UID:15881
DTSTAMP:20260424T113019
DTSTART:20230321T093000
DTEND:20230323T093000
SUMMARY:Gestiona la presa de decisions per a la cerca de feina
LOCATION:
METHOD:PUBLISH
X-WR-CALNAME:comunicacio@castellbisbal.cat
X-WR-TIMEZONE:Europe/Madrid
DESCRIPTION:Els dies 21, 22 i 23 de març, de 9.30 a 13.30 h

URI:https://www.castellbisbal.cat/actualitat/agenda/15881-gestiona-la-presa-de-decisions-per-a-la-cerca-de-feina.html
CLASS:PUBLIC
END:VEVENT
END:VCALENDAR
