BEGIN:VCALENDAR
VERSION:2.0
CALSCALE:GREGORIAN
PRODID:-//Diputació de Barcelona//DibaCMS//EN
BEGIN:VEVENT
UID:15883
DTSTAMP:20260424T144615
DTSTART:20230420T091500
DTEND:20230420T091500
SUMMARY:Imatge personal per la cerca de feina
LOCATION:
METHOD:PUBLISH
X-WR-CALNAME:comunicacio@castellbisbal.cat
X-WR-TIMEZONE:Europe/Madrid
DESCRIPTION:Dues sessions, el 18 i el 20 d'abril, de 9.15 a 14.15 h

URI:https://www.castellbisbal.cat/actualitat/agenda/15883-imatge-personal-per-la-cerca-de-feina.html
CLASS:PUBLIC
END:VEVENT
END:VCALENDAR
