BEGIN:VCALENDAR
VERSION:2.0
CALSCALE:GREGORIAN
PRODID:-//Diputació de Barcelona//DibaCMS//EN
BEGIN:VEVENT
UID:15884
DTSTAMP:20260424T031354
DTSTART:20230516T091500
DTEND:20230516T091500
SUMMARY:Coneix les sortides laborals actuals
LOCATION:Avinguda de Pau Casals, 9 08755 Castellbisbal
METHOD:PUBLISH
X-WR-CALNAME:comunicacio@castellbisbal.cat
X-WR-TIMEZONE:Europe/Madrid
DESCRIPTION:De 9.15 a 14.15 h, a la sala de plens de l'Ajuntament

URI:https://www.castellbisbal.cat/actualitat/agenda/15884-coneix-les-sortides-laborals-actuals.html
CLASS:PUBLIC
END:VEVENT
END:VCALENDAR
