BEGIN:VCALENDAR
VERSION:2.0
CALSCALE:GREGORIAN
PRODID:-//Diputació de Barcelona//DibaCMS//EN
BEGIN:VEVENT
UID:15886
DTSTAMP:20260424T142217
DTSTART:20230608T091500
DTEND:20230608T091500
SUMMARY:Desenvolupa el teu projecte professional amb el joc del Lego
LOCATION:Av. de Pau Casals, 9 08755 Castellbisbal
METHOD:PUBLISH
X-WR-CALNAME:comunicacio@castellbisbal.cat
X-WR-TIMEZONE:Europe/Madrid
DESCRIPTION:Dues sessions, el 8 i el 9 de juny de 9.30 a 14.30 h, a la sala d'actes de l'Ajuntament

URI:https://www.castellbisbal.cat/actualitat/agenda/desenvolupa-el-teu-projecte-professional-amb-el-joc-del-lego.html
CLASS:PUBLIC
END:VEVENT
END:VCALENDAR
