BEGIN:VCALENDAR
VERSION:2.0
CALSCALE:GREGORIAN
PRODID:-//Diputació de Barcelona//DibaCMS//EN
BEGIN:VEVENT
UID:15892
DTSTAMP:20260424T130517
DTSTART:20230226T110000
DTEND:20230226T110000
SUMMARY:Festa de l'arbre 2023
LOCATION:Av. de Pau Casals, 16 08755 Castellbisbal
METHOD:PUBLISH
X-WR-CALNAME:comunicacio@castellbisbal.cat
X-WR-TIMEZONE:Europe/Madrid
DESCRIPTION:A les 11.00 h, a l'espai Mary Santpere d'Els Costals

URI:https://www.castellbisbal.cat/actualitat/agenda/festa-de-larbre-2023.html
CLASS:PUBLIC
END:VEVENT
END:VCALENDAR
