BEGIN:VCALENDAR
VERSION:2.0
CALSCALE:GREGORIAN
PRODID:-//Diputació de Barcelona//DibaCMS//EN
BEGIN:VEVENT
UID:15893
DTSTAMP:20260424T131350
DTSTART:20230223T170000
DTEND:20230223T170000
SUMMARY:L'Hora del cafè: "Com escollir escola i acompanyar els infants en el pas a I3"
LOCATION:C. Bellavista 47-49 08755 Castellbisbal
METHOD:PUBLISH
X-WR-CALNAME:comunicacio@castellbisbal.cat
X-WR-TIMEZONE:Europe/Madrid
DESCRIPTION:De 17.00 a 18.00 h, a l'EMB La Caseta

URI:https://www.castellbisbal.cat/actualitat/agenda/lhora-del-cafe-com-escollir-escola-i-acompanyar-els-infants-en-el-pas-a-i3.html
CLASS:PUBLIC
END:VEVENT
END:VCALENDAR
