BEGIN:VCALENDAR
VERSION:2.0
CALSCALE:GREGORIAN
PRODID:-//Diputació de Barcelona//DibaCMS//EN
BEGIN:VEVENT
UID:15894
DTSTAMP:20260424T225650
DTSTART:20230219T180000
DTEND:20230219T180000
SUMMARY:Teatre: "La motxilla de l'Ada"
LOCATION:Av. de Pau Casals, 16 08755 Castellbisbal
METHOD:PUBLISH
X-WR-CALNAME:comunicacio@castellbisbal.cat
X-WR-TIMEZONE:Europe/Madrid
DESCRIPTION:A les 18.00 h, a l'Auditori d'Els Costals

URI:https://www.castellbisbal.cat/actualitat/agenda/teatre-la-motxilla-de-lada.html
CLASS:PUBLIC
END:VEVENT
END:VCALENDAR
