BEGIN:VCALENDAR
VERSION:2.0
CALSCALE:GREGORIAN
PRODID:-//Diputació de Barcelona//DibaCMS//EN
BEGIN:VEVENT
UID:15895
DTSTAMP:20260424T131243
DTSTART:20230412T170000
DTEND:20230412T170000
SUMMARY:Portes obertes a l'Escola Municipal de Música
LOCATION:Plaça de l'Esglèsia, 2 08755 Castellbisbal
METHOD:PUBLISH
X-WR-CALNAME:comunicacio@castellbisbal.cat
X-WR-TIMEZONE:Europe/Madrid
DESCRIPTION:A les 17.00, 18.00 i 19.00 h

URI:https://www.castellbisbal.cat/actualitat/agenda/portes-obertes-a-lescola-municipal-de-musica.html
CLASS:PUBLIC
END:VEVENT
END:VCALENDAR
