BEGIN:VCALENDAR
VERSION:2.0
CALSCALE:GREGORIAN
PRODID:-//Diputació de Barcelona//DibaCMS//EN
BEGIN:VEVENT
UID:15896
DTSTAMP:20260424T141829
DTSTART:20230427T173000
DTEND:20230427T173000
SUMMARY:Portes obertes a l'Escola Bressol La Caseta
LOCATION:C. Bellavista 47-49 08755 Castellbisbal
METHOD:PUBLISH
X-WR-CALNAME:comunicacio@castellbisbal.cat
X-WR-TIMEZONE:Europe/Madrid
DESCRIPTION:A les 17.30 i a les 18.00 h

URI:https://www.castellbisbal.cat/actualitat/agenda/portes-obertes-a-lescola-bressol-la-caseta.html
CLASS:PUBLIC
END:VEVENT
END:VCALENDAR
