BEGIN:VCALENDAR
VERSION:2.0
CALSCALE:GREGORIAN
PRODID:-//Diputació de Barcelona//DibaCMS//EN
BEGIN:VEVENT
UID:15898
DTSTAMP:20260424T182523
DTSTART:20230223T190000
DTEND:20230223T190000
SUMMARY:Comissió jove de Festa Major
LOCATION:Carrer Francesc Macià, 64 08755 Castellbisbal
METHOD:PUBLISH
X-WR-CALNAME:comunicacio@castellbisbal.cat
X-WR-TIMEZONE:Europe/Madrid
DESCRIPTION:A les 19.00 h, a l'Espai Jove

URI:https://www.castellbisbal.cat/actualitat/agenda/15898-comissio-jove-de-festa-major.html
CLASS:PUBLIC
END:VEVENT
END:VCALENDAR
