BEGIN:VCALENDAR
VERSION:2.0
CALSCALE:GREGORIAN
PRODID:-//Diputació de Barcelona//DibaCMS//EN
BEGIN:VEVENT
UID:15902
DTSTAMP:20260424T112259
DTSTART:20230212T090000
DTEND:20230212T090000
SUMMARY:13a Cursa de muntanya de Castellbisbal
LOCATION:Av. de Pau Casals 7 08755 Castellbisbal
METHOD:PUBLISH
X-WR-CALNAME:comunicacio@castellbisbal.cat
X-WR-TIMEZONE:Europe/Madrid
DESCRIPTION:Dues curses: la llarga a les 9.00 h i la curta a les 10.00 h.

URI:https://www.castellbisbal.cat/actualitat/agenda/13a-cursa-de-muntanya-de-castellbisbal.html
CLASS:PUBLIC
END:VEVENT
END:VCALENDAR
