BEGIN:VCALENDAR
VERSION:2.0
CALSCALE:GREGORIAN
PRODID:-//Diputació de Barcelona//DibaCMS//EN
BEGIN:VEVENT
UID:15905
DTSTAMP:20260424T021914
DTSTART:20230305T180000
DTEND:20230305T180000
SUMMARY:Teatre: "La Rateta voladora"
LOCATION:Av. de Pau Casals, 16 08755 Castellbisbal
METHOD:PUBLISH
X-WR-CALNAME:comunicacio@castellbisbal.cat
X-WR-TIMEZONE:Europe/Madrid
DESCRIPTION:A les 18.00 h, a l'auditori d'Els Costals

URI:https://www.castellbisbal.cat/actualitat/agenda/teatre-la-rateta-voladora.html
CLASS:PUBLIC
END:VEVENT
END:VCALENDAR
