BEGIN:VCALENDAR
VERSION:2.0
CALSCALE:GREGORIAN
PRODID:-//Diputació de Barcelona//DibaCMS//EN
BEGIN:VEVENT
UID:15907
DTSTAMP:20260424T054413
DTSTART:20230307T193000
DTEND:20230307T193000
SUMMARY:Conferència: "Salut mental en femení"
LOCATION:Av. de Pau Casals, 16 08755 Castellbisbal
METHOD:PUBLISH
X-WR-CALNAME:comunicacio@castellbisbal.cat
X-WR-TIMEZONE:Europe/Madrid
DESCRIPTION:A les 19.30 h, a l'espai Montserrat Roig

URI:https://www.castellbisbal.cat/actualitat/agenda/conferencia-salut-mental-en-femeni.html
CLASS:PUBLIC
END:VEVENT
END:VCALENDAR
