BEGIN:VCALENDAR
VERSION:2.0
CALSCALE:GREGORIAN
PRODID:-//Diputació de Barcelona//DibaCMS//EN
BEGIN:VEVENT
UID:15911
DTSTAMP:20260424T022015
DTSTART:20230414T200000
DTEND:20230414T200000
SUMMARY:Dansa "Ay, Carmela"
LOCATION:Av. de Pau Casals, 16 08755 Castellbisbal
METHOD:PUBLISH
X-WR-CALNAME:comunicacio@castellbisbal.cat
X-WR-TIMEZONE:Europe/Madrid
DESCRIPTION:A les 20.00 h, a l'auditori d'Els Costals

URI:https://www.castellbisbal.cat/actualitat/agenda/dansa-ay-carmela.html
CLASS:PUBLIC
END:VEVENT
END:VCALENDAR
