BEGIN:VCALENDAR
VERSION:2.0
CALSCALE:GREGORIAN
PRODID:-//Diputació de Barcelona//DibaCMS//EN
BEGIN:VEVENT
UID:15912
DTSTAMP:20260424T131441
DTSTART:20230419T170000
DTEND:20230419T170000
SUMMARY:Espectacle musical: "El drac que endrapava cançons"
LOCATION:Av. de Pau Casals, 16 08755 Castellbisbal
METHOD:PUBLISH
X-WR-CALNAME:comunicacio@castellbisbal.cat
X-WR-TIMEZONE:Europe/Madrid
DESCRIPTION:A les 17.00 h, a l'auditori d'Els Costals

URI:https://www.castellbisbal.cat/actualitat/agenda/espectacle-musical-el-drac-que-endrapava-cancons.html
CLASS:PUBLIC
END:VEVENT
END:VCALENDAR
