BEGIN:VCALENDAR
VERSION:2.0
CALSCALE:GREGORIAN
PRODID:-//Diputació de Barcelona//DibaCMS//EN
BEGIN:VEVENT
UID:15917
DTSTAMP:20260424T110333
DTSTART:20230517T171500
DTEND:20230517T171500
SUMMARY:Mostra de llenguatge i conjunts d'ensenyament bàsic
LOCATION:Av. de Pau Casals, 16 08755 Castellbisbal
METHOD:PUBLISH
X-WR-CALNAME:comunicacio@castellbisbal.cat
X-WR-TIMEZONE:Europe/Madrid
DESCRIPTION:Dues sessions, el 16 i 17 de maig a les 17.15 h, a l'auditori d'Els Costals

URI:https://www.castellbisbal.cat/actualitat/agenda/15917-mostra-de-llenguatge-i-conjunts-densenyament-basic.html
CLASS:PUBLIC
END:VEVENT
END:VCALENDAR
