BEGIN:VCALENDAR
VERSION:2.0
CALSCALE:GREGORIAN
PRODID:-//Diputació de Barcelona//DibaCMS//EN
BEGIN:VEVENT
UID:15918
DTSTAMP:20260424T125528
DTSTART:20230518T104500
DTEND:20230518T104500
SUMMARY:Teatre: "Camps de maduixes"
LOCATION:Av. de Pau Casals, 16 08755 Castellbisbal
METHOD:PUBLISH
X-WR-CALNAME:comunicacio@castellbisbal.cat
X-WR-TIMEZONE:Europe/Madrid
DESCRIPTION:A les 10.45 h, a l'auditori d'Els Costals

URI:https://www.castellbisbal.cat/actualitat/agenda/15918-teatre-camps-de-maduixes.html
CLASS:PUBLIC
END:VEVENT
END:VCALENDAR
