BEGIN:VCALENDAR
VERSION:2.0
CALSCALE:GREGORIAN
PRODID:-//Diputació de Barcelona//DibaCMS//EN
BEGIN:VEVENT
UID:15931
DTSTAMP:20260424T085049
DTSTART:20230303T183000
DTEND:20230303T183000
SUMMARY:Inauguració de l'exposició "Crits, com un reflex a l'aigua"
LOCATION:Sant Joan núm. 1 08755 Castellbisbal
METHOD:PUBLISH
X-WR-CALNAME:comunicacio@castellbisbal.cat
X-WR-TIMEZONE:Europe/Madrid
DESCRIPTION:A les 18.30 h, a l'Espai de la Plaça

URI:https://www.castellbisbal.cat/actualitat/agenda/inauguracio-de-lexposicio-crits-com-un-reflex-a-laigua.html
CLASS:PUBLIC
END:VEVENT
END:VCALENDAR
