BEGIN:VCALENDAR
VERSION:2.0
CALSCALE:GREGORIAN
PRODID:-//Diputació de Barcelona//DibaCMS//EN
BEGIN:VEVENT
UID:15932
DTSTAMP:20260424T071252
DTSTART:20230304T090000
DTEND:20230304T090000
SUMMARY:Excursió a la riera del Morral
LOCATION:Av. de Pau Casals 9 08755 Castellbisbal
METHOD:PUBLISH
X-WR-CALNAME:comunicacio@castellbisbal.cat
X-WR-TIMEZONE:Europe/Madrid
DESCRIPTION:A les 9.00 h, sortida davant de l'Ajuntament

URI:https://www.castellbisbal.cat/actualitat/agenda/excursio-a-la-riera-del-morral.html
CLASS:PUBLIC
END:VEVENT
END:VCALENDAR
