BEGIN:VCALENDAR
VERSION:2.0
CALSCALE:GREGORIAN
PRODID:-//Diputació de Barcelona//DibaCMS//EN
BEGIN:VEVENT
UID:15933
DTSTAMP:20260424T153339
DTSTART:20230307T090000
DTEND:20230307T090000
SUMMARY:Melé mitxa de petanca
LOCATION:C. Agricultura, s/n 08755 Castellbisbal
METHOD:PUBLISH
X-WR-CALNAME:comunicacio@castellbisbal.cat
X-WR-TIMEZONE:Europe/Madrid
DESCRIPTION:A les 9.00 h, a l'Illa Esportiva

URI:https://www.castellbisbal.cat/actualitat/agenda/mele-mitxa-de-petanca.html
CLASS:PUBLIC
END:VEVENT
END:VCALENDAR
