BEGIN:VCALENDAR
VERSION:2.0
CALSCALE:GREGORIAN
PRODID:-//Diputació de Barcelona//DibaCMS//EN
BEGIN:VEVENT
UID:15936
DTSTAMP:20260425T030446
DTSTART:20230309T170000
DTEND:20230309T170000
SUMMARY:Vols aprendre a fer ganxet mentre escoltes música?
LOCATION:08755 Castellbisbal
METHOD:PUBLISH
X-WR-CALNAME:comunicacio@castellbisbal.cat
X-WR-TIMEZONE:Europe/Madrid
DESCRIPTION:A les 17.00 h, a la plaça de l'Església

URI:https://www.castellbisbal.cat/actualitat/agenda/vols-aprendre-a-fer-ganxet-mentre-escoltes-musica.html
CLASS:PUBLIC
END:VEVENT
END:VCALENDAR
