BEGIN:VCALENDAR
VERSION:2.0
CALSCALE:GREGORIAN
PRODID:-//Diputació de Barcelona//DibaCMS//EN
BEGIN:VEVENT
UID:15937
DTSTAMP:20260424T091312
DTSTART:20230310T170000
DTEND:20230310T170000
SUMMARY:Masculí i femení: fem diferències a l'hora d'educar?
LOCATION:C. de Sant Mateu, 20 08755 Castellbisbal
METHOD:PUBLISH
X-WR-CALNAME:comunicacio@castellbisbal.cat
X-WR-TIMEZONE:Europe/Madrid
DESCRIPTION:A les 17.00 h, a l'escola Benviure

URI:https://www.castellbisbal.cat/actualitat/agenda/masculi-i-femeni-fem-diferencies-a-lhora-deducar.html
CLASS:PUBLIC
END:VEVENT
END:VCALENDAR
