BEGIN:VCALENDAR
VERSION:2.0
CALSCALE:GREGORIAN
PRODID:-//Diputació de Barcelona//DibaCMS//EN
BEGIN:VEVENT
UID:15938
DTSTAMP:20260424T054303
DTSTART:20230303T000000
DTEND:20230331T000000
SUMMARY:Exposició fotogràfica "Crits. Com un reflex a l'aigua"
LOCATION:Sant Joan núm. 1 08755 Castellbisbal
METHOD:PUBLISH
X-WR-CALNAME:comunicacio@castellbisbal.cat
X-WR-TIMEZONE:Europe/Madrid
DESCRIPTION:A l'Espai de la Plaça, durant el seu horari d'obertura

URI:https://www.castellbisbal.cat/actualitat/agenda/exposicio-fotografica-crits-com-un-reflex-a-laigua.html
CLASS:PUBLIC
END:VEVENT
END:VCALENDAR
