BEGIN:VCALENDAR
VERSION:2.0
CALSCALE:GREGORIAN
PRODID:-//Diputació de Barcelona//DibaCMS//EN
BEGIN:VEVENT
UID:15941
DTSTAMP:20260424T202148
DTSTART:20230303T000000
DTEND:20230326T000000
SUMMARY:Exposició "Camí de la salut mental"
LOCATION:Av. de Pau Casals, 16 08755 Castellbisbal
METHOD:PUBLISH
X-WR-CALNAME:comunicacio@castellbisbal.cat
X-WR-TIMEZONE:Europe/Madrid
DESCRIPTION:A l'auditori d'Els Costals, durant el seu horari d'obertura

URI:https://www.castellbisbal.cat/actualitat/agenda/exposicio-cami-de-la-salut-mental.html
CLASS:PUBLIC
END:VEVENT
END:VCALENDAR
