BEGIN:VCALENDAR
VERSION:2.0
CALSCALE:GREGORIAN
PRODID:-//Diputació de Barcelona//DibaCMS//EN
BEGIN:VEVENT
UID:15942
DTSTAMP:20260425T030746
DTSTART:20230311T113000
DTEND:20230311T113000
SUMMARY:L'Hora del conte: La Carlota no vol ser una princesa
LOCATION:Av. de Pau Casals, 16 08755 Castellbisbal
METHOD:PUBLISH
X-WR-CALNAME:comunicacio@castellbisbal.cat
X-WR-TIMEZONE:Europe/Madrid
DESCRIPTION:A les 11.30 h, a la Biblioteca

URI:https://www.castellbisbal.cat/actualitat/agenda/biblioteca/lhora-del-conte-la-carlota-no-vol-ser-una-princesa.html
CLASS:PUBLIC
END:VEVENT
END:VCALENDAR
