BEGIN:VCALENDAR
VERSION:2.0
CALSCALE:GREGORIAN
PRODID:-//Diputació de Barcelona//DibaCMS//EN
BEGIN:VEVENT
UID:15947
DTSTAMP:20260424T172624
DTSTART:20230308T203000
DTEND:20230308T203000
SUMMARY:Cinema: "Cinco lobitos"
LOCATION:Av. de Pau Casals, 16 08755 Castellbisbal
METHOD:PUBLISH
X-WR-CALNAME:comunicacio@castellbisbal.cat
X-WR-TIMEZONE:Europe/Madrid
DESCRIPTION:A les 20.30 h, a l'auditori d'Els Costals

URI:https://www.castellbisbal.cat/actualitat/agenda/cinema-cinco-lobitos.html
CLASS:PUBLIC
END:VEVENT
END:VCALENDAR
