BEGIN:VCALENDAR
VERSION:2.0
CALSCALE:GREGORIAN
PRODID:-//Diputació de Barcelona//DibaCMS//EN
BEGIN:VEVENT
UID:15950
DTSTAMP:20260424T145209
DTSTART:20230304T200000
DTEND:20230304T200000
SUMMARY:Lliurament de banderes dels Tres Tombs
LOCATION:Av. de Pau Casals, 9 08755 Castellbisbal
METHOD:PUBLISH
X-WR-CALNAME:comunicacio@castellbisbal.cat
X-WR-TIMEZONE:Europe/Madrid
DESCRIPTION:A les 20.00 h, a la sala d'actes de l'Ajuntament

URI:https://www.castellbisbal.cat/actualitat/agenda/lliurament-de-banderes-dels-tres-tombs.html
CLASS:PUBLIC
END:VEVENT
END:VCALENDAR
